Workbook

Sheet 总表（总） (3)
A2: 政府管理学院25-26学年监考费发放（行政人员）
A3: 工号 | B3: 姓名 | C3: 25年秋季学期场次数 | D3: 26年春季学期场次数 | E3: 总计 | F3: 金额
A4: 02526 | B4: 安猛猛 | C4: 0 | D4: =VLOOKUP(B4,[1]导出计数_副监考!$H$2:$I$33,2,FALSE) -> 2 | E4: =C4+D4 -> 2 | F4: =E4*51.36 -> 102.72
A5: 03331 | B5: 孙双星 | C5: =VLOOKUP(B5,[2]计数!$H$2:$I$37,2,FALSE) -> 2 | D5: =VLOOKUP(B5,[1]导出计数_副监考!$H$2:$I$33,2,FALSE) -> 1 | E5: =C5+D5 -> 3 | F5: =E5*51.36 -> 154.08
C6: =SUM(C4:C5) -> 2 | D6: =SUM(D4:D5) -> 3 | E6: =SUM(E4:E5) -> 5 | F6: =SUM(F4:F5) -> 256.8
A9: 政府管理学院25-26学年监考费发放（校外劳务）
A10: 工号 | B10: 姓名 | C10: 25年秋季学期场次数 | D10: 26年春季学期场次数 | E10: 总计 | F10: 金额
A11: 10087 | B11: 杨江祎 | C11: 4 | D11: 2 | E11: =C11+D11 -> 6 | F11: =E11*51.36 -> 308.16
A12: 10188 | B12: 张芸宁 | C12: =VLOOKUP(B12,[2]计数!$H$2:$I$37,2,FALSE) -> 3 | D12: 0 | E12: =C12+D12 -> 3 | F12: =E12*51.36 -> 154.08
A13: \ | B13: 姜鹤鹏 | C13: =VLOOKUP(B13,[2]计数!$H$2:$I$37,2,FALSE) -> 2 | D13: =VLOOKUP(B13,[1]导出计数_副监考!$H$2:$I$33,2,FALSE) -> 7 | E13: =C13+D13 -> 9 | F13: =E13*51.36 -> 462.24
A14: 40110432 | B14: 仇防令 | C14: =VLOOKUP(B14,[2]计数!$H$2:$I$37,2,FALSE) -> 5 | D14: =VLOOKUP(B14,[1]导出计数_副监考!$H$2:$I$33,2,FALSE) -> 6 | E14: =C14+D14 -> 11 | F14: =E14*51.36 -> 564.96
C15: =SUM(C11:C14) -> 14 | D15: =SUM(D11:D14) -> 15 | E15: =SUM(E11:E14) -> 29 | F15: =SUM(F11:F14) -> 1489.44
